BEGIN:VCALENDAR
VERSION:2.0
PRODID:-//Squarespace Inc/Squarespace 6//v6//EN
BEGIN:VEVENT
UID:59cc897c3e00be80b5100e27@squarespace.com
DTSTAMP:20171009T101715Z
DTSTART:20171010T070000Z
DTEND:20171010T110000Z
SUMMARY:Mount Majura Vineyard wine dinner
GEO:-35.306025;149.135805
LOCATION:Vincent Restaurant\, 48 Macquarie Street\, Barton\, ACT\, 2600\, A
 ustralia
END:VEVENT
END:VCALENDAR
